Workbook

Sheet Rekapitulácia
A2: Rekapitulácia rozpočtu | F2: Sadzby DPH
A3: Stavba ZŠ Mirkovce 16 | F3: A | G3: B
F4: 0.2 | G4: 0
A6: Názov objektu | B6: ZRN | C6: VRN % | D6: HZS | E6: Kompl.čin. | F6: Ost. náklady | G6: Cena
A7: Prístavba spojovacej chodby | B7: ='SO 5674'!I149-Rekapitulácia!D7 -> 0 | C7: ='Kryci_list 5674'!J26 -> 0 | D7: 0 | E7: ='Kryci_list 5674'!J17 -> 0 | F7: 0 | G7: =B7+C7+D7+E7+F7 -> 0 | K7: ='SO 5674'!K149 -> 0 | Q7: 30.126
A8: Celkom bez DPH | B8: =SUM(B7:B7) -> 0 | C8: =SUM(C7:C7) -> 0 | D8: =SUM(D7:D7) -> 0 | E8: =SUM(E7:E7) -> 0 | F8: =SUM(F7:F7) -> 0 | G8: =SUM(G7:G7)-SUM(Z7:Z7) -> 0
A9: DPH 20% z | B9: =G8-SUM(Rekapitulácia!K7:'Rekapitulácia'!K7)*1 -> 0 | G9: =ROUND(((ROUND(B9,2)*20)/100),2)*1 -> 0
A10: DPH 0% z | B10: =(G8-B9) -> 0 | G10: =ROUND(((ROUND(B10,2)*0)/100),2) -> 0
A11: Celkom v EUR | G11: =SUM(G8:G10) -> 0

Sheet Krycí list stavby
F1: Krycí list stavby | W1: 30.126
B2: Stavba: Stavebné úprav v objekte ZŠ Mirkovce č. 16
I3: Miesto:
I4: Ks:
B5: Zákazka: | F5: Spracoval: Ing. Peter Sütö - suto.sk | I5: Dňa | J5: 30. 4. 2020
B6: Odberateľ: Obec Mirkovce
B7: IČO: 00327484 | G7: DIČ: 2021225613
B8: Projektant:
B9: IČO: | G9: DIČ:
B10: Dodávateľ:
B11: IČO: | G11: DIČ:
B15: A | C15: ZRN | D15: Montáž | E15: Materiál | F15: ZRN spolu | G15: B | H15: Ďalšie náklady
B16: 1 | C16: HSV | D16: ='Kryci_list 5674'!D16 -> 0 | E16: ='Kryci_list 5674'!E16 -> 0 | F16: ='Kryci_list 5674'!F16 -> 0 | G16: 6 | H16: Ostatné náklady | J16: =Rekapitulácia!F8 -> 0
B17: 2 | C17: PSV | D17: ='Kryci_list 5674'!D17 -> 0 | E17: ='Kryci_list 5674'!E17 -> 0 | F17: ='Kryci_list 5674'!F17 -> 0 | G17: 7 | H17: Kompletačná činnosť | J17: =Rekapitulácia!E8 -> 0
B18: 3 | C18: MONT | D18: ='Kryci_list 5674'!D18 -> 0 | E18: ='Kryci_list 5674'!E18 -> 0 | F18: ='Kryci_list 5674'!F18 -> 0 | G18: 8 | H18: HZS | J18: =Rekapitulácia!D8 -> 0
B19: 4 | C19: VRN | D19: ='Kryci_list 5674'!D19 -> 0 | E19: ='Kryci_list 5674'!E19 -> 0 | F19: ='Kryci_list 5674'!F19 -> 0 | G19: 9
B20: 5 | C20: Spolu | F20: =SUM(F16:F19) -> 0 | G20: 10 | H20: Spolu | J20: =SUM(J16:J19) -> 0
B21: C | C21: VRN | G21: D | H21: VRN
B22: 11 | C22: Zariadenie staveniska | F22: ='Kryci_list 5674'!F22 -> 0 | G22: 16 | H22: Sťažené podmienky dopravy | J22: ='Kryci_list 5674'!J22 -> 0
B23: 12 | C23: Sťažené výrobné podmienky | F23: ='Kryci_list 5674'!F23 -> 0 | G23: 17 | H23: Horské oblasti | J23: ='Kryci_list 5674'!J23 -> 0
B24: 13 | C24: Prevádzkové vplyvy | F24: ='Kryci_list 5674'!F24 -> 0 | G24: 18 | H24: Mimostavenisková doprava | J24: ='Kryci_list 5674'!J24 -> 0
B25: 14 | G25: 19
B26: 15 | G26: 20 | H26: Spolu | J26: =SUM(J22:J25)+SUM(F22:F25) -> 0
C27: Projektant,rozpočtár | G27: E | H27: Celkové náklady
G28: 21 | H28: Súčet riadkov 5,10,15,20 | J28: =F20+J20+F26+J26 -> 0
G29: 22 | H29: DPH 20% z | I29: =Rekapitulácia!B9 -> 0 | J29: =ROUND(((ROUND(I29,2)*20)/100),2)*1 -> 0
G30: 23 | H30: DPH 0% z | I30: =Rekapitulácia!B10 -> 0 | J30: =ROUND(((ROUND(I30,2)*0)/100),2) -> 0
G31: 24 | H31: Spolu v EUR | J31: =SUM(J28:J30) -> 0
G32: F
D33: Odberateľ | H33: Dodávateľ

Sheet Kryci_list 5674
F1: Krycí list rozpočtu | W1: 30.126
B2: Stavba: Stavebné úprav v objekte ZŠ Mirkovce č. 16
B3: Objekt chodba | I3: Miesto:
I4: Ks:
B5: Zákazka: | F5: Spracoval: Ing. Peter Sütö - suto.sk | I5: Dňa | J5: 30. 4. 2020
B6: Odberateľ: Obec Mirkovce
B7: IČO: 00327484 | G7: DIČ: 2021225613
B8: Projektant:
B9: IČO: | G9: DIČ:
B10: Dodávateľ:
B11: IČO: | G11: DIČ:
B15: A | C15: ZRN | D15: Montáž | E15: Materiál | F15: ZRN spolu | G15: B | H15: Ďalšie náklady
B16: 1 | C16: HSV | D16: ='Rekap 5674'!B18 -> 0 | E16: ='Rekap 5674'!C18 -> 0 | F16: ='Rekap 5674'!D18 -> 0 | G16: 6 | H16: Ostatné náklady | J16: 0
B17: 2 | C17: PSV | D17: ='Rekap 5674'!B29 -> 0 | E17: ='Rekap 5674'!C29 -> 0 | F17: ='Rekap 5674'!D29 -> 0 | G17: 7 | H17: Kompletačná činnosť | J17: ='SO 5674'!Z149 -> 0
B18: 3 | C18: MONT | G18: 8 | H18: HZS | J18: 0
B19: 4 | C19: VRN | G19: 9
B20: 5 | C20: Spolu | F20: =SUM(F16:F19) -> 0 | G20: 10 | H20: Spolu | J20: =SUM(J16:J19) -> 0
B21: C | C21: VRN | G21: D | H21: VRN
B22: 11 | C22: Zariadenie staveniska | E22: 0% z [H+P+M] | F22: =((F16*U22*0)+(F17*V22*0)+(F18*W22*0))/100 -> 0 | G22: 16 | H22: Sťažené podmienky dopravy | I22: 0% z [H+P+M] | J22: =((F16*X22*0)+(F17*Y22*0)+(F18*Z22*0))/100 -> 0 | U22: 1 | V22: 1 | W22: 1 | X22: 1 | Y22: 1 | Z22: 1
B23: 12 | C23: Sťažené výrobné podmienky | E23: 0% z [H+P] | F23: =((F16*U23*0)+(F17*V23*0)+(F18*W23*0))/100 -> 0 | G23: 17 | H23: Horské oblasti | I23: 0% z [H+P+M] | J23: =((F16*X23*0)+(F17*Y23*0)+(F18*Z23*0))/100 -> 0 | U23: 1 | V23: 1 | W23: 0 | X23: 1 | Y23: 1 | Z23: 1
B24: 13 | C24: Prevádzkové vplyvy | E24: 0% z [H+P+M] | F24: =((F16*U24*0)+(F17*V24*0)+(F18*W24*0))/100 -> 0 | G24: 18 | H24: Mimostavenisková doprava | I24: 0% z [H+P] | J24: =((F16*X24*0)+(F17*Y24*0)+(F18*Z24*0))/100 -> 0 | U24: 1 | V24: 1 | W24: 1 | X24: 1 | Y24: 1 | Z24: 0
B25: 14 | G25: 19
B26: 15 | G26: 20 | H26: Spolu | J26: =SUM(J22:J25)+SUM(F22:F25) -> 0
C27: Projektant,rozpočtár | G27: E | H27: Celkové náklady
G28: 21 | H28: Súčet riadkov 5,10,15,20 | J28: =F20+J20+F26+J26 -> 0
G29: 22 | H29: DPH 20% z | I29: =J28-SUM('SO 5674'!K9:'SO 5674'!K148) -> 0 | J29: =ROUND(((ROUND(I29,2)*20)*1/100),2) -> 0
G30: 23 | H30: DPH 0% z | I30: =SUM('SO 5674'!K9:'SO 5674'!K148) -> 0 | J30: =ROUND(((ROUND(I30,2)*0)/100),2) -> 0
G31: 24 | H31: Spolu v EUR | J31: =SUM(J28:J30) -> 0
G32: F
D33: Odberateľ | G33: 26 | H33: Dodávateľ

Sheet Rekap 5674
A1: Odberateľ: Obec Mirkovce | E1: Spracoval: Ing. Peter Sütö - suto.sk | W1: 30.126
A2: Projektant: | E2: Ks:
A3: Dodávateľ: | E3: Dátum: 30. 4. 2020
A4: Stavba ZŠ Mirkovce 16
A5: Objekt Prístavba spojovacej chodby
A8: Prehľad rozpočtových nákladov
A9: Oddiel | B9: Montáž | C9: Materiál | D9: Spolu | E9: Hmotnosť (T) | F9: Suť (T)
A10: Práce HSV
A11: ZEMNÉ PRÁCE | B11: ='SO 5674'!L16 -> 0 | C11: ='SO 5674'!M16 -> 0 | D11: ='SO 5674'!I16 -> 0 | E11: ='SO 5674'!S16 -> 0 | F11: ='SO 5674'!V16 -> 0
A12: ZÁKLADY | B12: ='SO 5674'!L26 -> 0 | C12: ='SO 5674'!M26 -> 0 | D12: ='SO 5674'!I26 -> 0 | E12: ='SO 5674'!S26 -> 28.6 | F12: ='SO 5674'!V26 -> 0
A13: ZVISLÉ KONŠTRUKCIE | B13: ='SO 5674'!L32 -> 0 | C13: ='SO 5674'!M32 -> 0 | D13: ='SO 5674'!I32 -> 0 | E13: ='SO 5674'!S32 -> 11.73 | F13: ='SO 5674'!V32 -> 0
A14: VODOROVNÉ KONŠTRUKCIE | B14: ='SO 5674'!L39 -> 0 | C14: ='SO 5674'!M39 -> 0 | D14: ='SO 5674'!I39 -> 0 | E14: ='SO 5674'!S39 -> 4 | F14: ='SO 5674'!V39 -> 0
A15: POVRCHOVÉ ÚPRAVY | B15: ='SO 5674'!L52 -> 0 | C15: ='SO 5674'!M52 -> 0 | D15: ='SO 5674'!I52 -> 0 | E15: ='SO 5674'!S52 -> 4.27 | F15: ='SO 5674'!V52 -> 0
A16: OSTATNÉ PRÁCE | B16: ='SO 5674'!L67 -> 0 | C16: ='SO 5674'!M67 -> 0 | D16: ='SO 5674'!I67 -> 0 | E16: ='SO 5674'!S67 -> 0.29 | F16: ='SO 5674'!V67 -> 0.87
A17: PRESUNY HMÔT | B17: ='SO 5674'!L71 -> 0 | C17: ='SO 5674'!M71 -> 0 | D17: ='SO 5674'!I71 -> 0 | E17: ='SO 5674'!S71 -> 0 | F17: ='SO 5674'!V71 -> 0
A18: Práce HSV | B18: ='SO 5674'!L73 -> 0 | C18: ='SO 5674'!M73 -> 0 | D18: ='SO 5674'!I73 -> 0 | E18: ='SO 5674'!S73 -> 48.9 | F18: ='SO 5674'!V73 -> 0.87
A20: Práce PSV
A21: IZOLÁCIE PROTI VODE A VLHKOSTI | B21: ='SO 5674'!L82 -> 0 | C21: ='SO 5674'!M82 -> 0 | D21: ='SO 5674'!I82 -> 0 | E21: ='SO 5674'!S82 -> 0.03 | F21: ='SO 5674'!V82 -> 0
A22: IZOLÁCIE TEPELNÉ BEŽNÝCH STAVEBNÝCH KONŠTRUKCIÍ | B22: ='SO 5674'!L89 -> 0 | C22: ='SO 5674'!M89 -> 0 | D22: ='SO 5674'!I89 -> 0 | E22: ='SO 5674'!S89 -> 0 | F22: ='SO 5674'!V89 -> 0
A23: KONŠTRUKCIE TESÁRSKE | B23: ='SO 5674'!L103 -> 0 | C23: ='SO 5674'!M103 -> 0 | D23: ='SO 5674'!I103 -> 0 | E23: ='SO 5674'!S103 -> 1.68 | F23: ='SO 5674'!V103 -> 0
A24: DREVOSTAVBY | B24: ='SO 5674'!L108 -> 0 | C24: ='SO 5674'!M108 -> 0 | D24: ='SO 5674'!I108 -> 0 | E24: ='SO 5674'!S108 -> 0.61 | F24: ='SO 5674'!V108 -> 0
A25: KONŠTRUKCIE KLAMPIARSKE | B25: ='SO 5674'!L129 -> 0 | C25: ='SO 5674'!M129 -> 0 | D25: ='SO 5674'!I129 -> 0 | E25: ='SO 5674'!S129 -> 0.28 | F25: ='SO 5674'!V129 -> 0.08
A26: PODLAHY A DLAŽBY KERAMICKÉ | B26: ='SO 5674'!L136 -> 0 | C26: ='SO 5674'!M136 -> 0 | D26: ='SO 5674'!I136 -> 0 | E26: ='SO 5674'!S136 -> 0.78 | F26: ='SO 5674'!V136 -> 0
A27: NÁTERY | B27: ='SO 5674'!L141 -> 0 | C27: ='SO 5674'!M141 -> 0 | D27: ='SO 5674'!I141 -> 0 | E27: ='SO 5674'!S141 -> 0 | F27: ='SO 5674'!V141 -> 0
A28: MAĽBY | B28: ='SO 5674'!L146 -> 0 | C28: ='SO 5674'!M146 -> 0 | D28: ='SO 5674'!I146 -> 0 | E28: ='SO 5674'!S146 -> 0.02 | F28: ='SO 5674'!V146 -> 0
A29: Práce PSV | B29: ='SO 5674'!L148 -> 0 | C29: ='SO 5674'!M148 -> 0 | D29: ='SO 5674'!I148 -> 0 | E29: ='SO 5674'!S148 -> 3.4 | F29: ='SO 5674'!V148 -> 0.08
A31: Celkom v EUR | B31: ='SO 5674'!L149 -> 0 | C31: ='SO 5674'!M149 -> 0 | D31: ='SO 5674'!I149 -> 0 | E31: ='SO 5674'!S149 -> 52.3 | F31: ='SO 5674'!V149 -> 0.95

Sheet SO 5674
C1: Odberateľ: Obec Mirkovce | I1: Spracoval: | P1: Ing. Peter Sütö - suto.sk | W1: 30.126
C2: Projektant: | I2: Ks:
C3: Dodávateľ: | I3: Dátum: | P3: 30. 4. 2020
C4: Zákazka - Stavebné úprav v objekte ZŠ Mirkovce č. 16
C5: Objekt
C7: Prehľad rozpočtových nákladov
A8: Por.č. | B8: Cenník | C8: Kód položky | D8: Názov | E8: Mj | F8: Množstvo | G8: Montáž | H8: Materiál | I8: Cena celkom | P8: Hmotnosť/Mj | S8: Hmotnosť | V8: Suť
D9: Práce HSV
C10: 1 | D10: ZEMNÉ PRÁCE
B11: 1/A 1 | C11: 122201101 | D11: Odkopávka a prekopávka nezapažená v hornine 3, do 100 m3 | E11: m3 | F11: 6.09 | G11: 0 | H11: 0 | I11: =ROUND(F11*(G11+H11),2) -> 0 | J11: =ROUND(F11*(N11),2) -> 0 | K11: =ROUND(F11*(O11),2) -> 0 | L11: =ROUND(F11*(G11),2) -> 0 | M11: =ROUND(F11*(H11),2) -> 0 | N11: 0 | S11: =ROUND(F11*(P11),3) -> 0 | Z11: 0
B12: 1/A 1 | C12: 132201101 | D12: Výkop ryhy do šírky 600 mm v horn.3 do 100 m3 | E12: m3 | F12: 9 | G12: 0 | H12: 0 | I12: =ROUND(F12*(G12+H12),2) -> 0 | J12: =ROUND(F12*(N12),2) -> 0 | K12: =ROUND(F12*(O12),2) -> 0 | L12: =ROUND(F12*(G12),2) -> 0 | M12: =ROUND(F12*(H12),2) -> 0 | N12: 0 | S12: =ROUND(F12*(P12),3) -> 0 | Z12: 0
B13: 1/A 1 | C13: 162301102 | D13: Vodorovné premiestnenie výkopku po spevnenej ceste, horniny tr.1-4, do 1000 m | E13: m3 | F13: 13.875 | G13: 0 | H13: 0 | I13: =ROUND(F13*(G13+H13),2) -> 0 | J13: =ROUND(F13*(N13),2) -> 0 | K13: =ROUND(F13*(O13),2) -> 0 | L13: =ROUND(F13*(G13),2) -> 0 | M13: =ROUND(F13*(H13),2) -> 0 | N13: 0 | S13: =ROUND(F13*(P13),3) -> 0 | Z13: 0
B14: 1/A 1 | C14: 171201201 | D14: Uloženie sypaniny na skládky do 100 m3 | E14: m3 | F14: 13.875 | G14: 0 | H14: 0 | I14: =ROUND(F14*(G14+H14),2) -> 0 | J14: =ROUND(F14*(N14),2) -> 0 | K14: =ROUND(F14*(O14),2) -> 0 | L14: =ROUND(F14*(G14),2) -> 0 | M14: =ROUND(F14*(H14),2) -> 0 | N14: 0 | S14: =ROUND(F14*(P14),3) -> 0 | Z14: 0
B15: 1/A 1 | C15: 174101001 | D15: Zásyp sypaninou so zhutnením jám, šachiet, rýh, zárezov alebo okolo objektov do 100 m3 | E15: m3 | F15: 1.215 | G15: 0 | H15: 0 | I15: =ROUND(F15*(G15+H15),2) -> 0 | J15: =ROUND(F15*(N15),2) -> 0 | K15: =ROUND(F15*(O15),2) -> 0 | L15: =ROUND(F15*(G15),2) -> 0 | M15: =ROUND(F15*(H15),2) -> 0 | N15: 0 | S15: =ROUND(F15*(P15),3) -> 0 | Z15: 0
C16: 1 | D16: ZEMNÉ PRÁCE | G16: =ROUND((SUM(L10:L15))/1,2) -> 0 | H16: =ROUND((SUM(M10:M15))/1,2) -> 0 | I16: =ROUND((SUM(I10:I15))/1,2) -> 0 | L16: =ROUND((SUM(L10:L15))/1,2) -> 0 | M16: =ROUND((SUM(M10:M15))/1,2) -> 0 | S16: =ROUND((SUM(S10:S15))/1,2) -> 0 | V16: =ROUND((SUM(V10:V15))/1,2) -> 0
C18: 2 | D18: ZÁKLADY
B19: 11/A 1 | C19: 273321301 | D19: Betón železový základových dosiek triedy C16/20 bez výstuže | E19: m3 | F19: 3.6 | G19: 0 | H19: 0 | I19: =ROUND(F19*(G19+H19),2) -> 0 | J19: =ROUND(F19*(N19),2) -> 0 | K19: =ROUND(F19*(O19),2) -> 0 | L19: =ROUND(F19*(G19),2) -> 0 | M19: =ROUND(F19*(H19),2) -> 0 | N19: 0 | P19: 2.19306 | R19: 2.19306 | S19: =ROUND(F19*(P19),3) -> 7.895 | Z19: 0
B20: 11/A 1 | C20: 273351217 | D20: Debnenie základových dosiek, zhotovenie-tradičné | E20: m2 | F20: 2.36 | G20: 0 | H20: 0 | I20: =ROUND(F20*(G20+H20),2) -> 0 | J20: =ROUND(F20*(N20),2) -> 0 | K20: =ROUND(F20*(O20),2) -> 0 | L20: =ROUND(F20*(G20),2) -> 0 | M20: =ROUND(F20*(H20),2) -> 0 | N20: 0 | P20: 0.00407 | R20: 0.00407 | S20: =ROUND(F20*(P20),3) -> 0.01 | Z20: 0
B21: 11/A 1 | C21: 273351218 | D21: Debnenie základových dosiek, odstránenie-tradičné | E21: m2 | F21: 2.36 | G21: 0 | H21: 0 | I21: =ROUND(F21*(G21+H21),2) -> 0 | J21: =ROUND(F21*(N21),2) -> 0 | K21: =ROUND(F21*(O21),2) -> 0 | L21: =ROUND(F21*(G21),2) -> 0 | M21: =ROUND(F21*(H21),2) -> 0 | N21: 0 | S21: =ROUND(F21*(P21),3) -> 0 | Z21: 0
B22: 11/A 1 | C22: 273362122 | D22: Výstuž základových dosiek zo sietí typu KARI, priemer drôtu 5/5 mm, veľkosť oka 150 x 150 mm | E22: m2 | F22: 36 | G22: 0 | H22: 0 | I22: =ROUND(F22*(G22+H22),2) -> 0 | J22: =ROUND(F22*(N22),2) -> 0 | K22: =ROUND(F22*(O22),2) -> 0 | L22: =ROUND(F22*(G22),2) -> 0 | M22: =ROUND(F22*(H22),2) -> 0 | N22: 0 | P22: 0.00245 | R22: 0.00245 | S22: =ROUND(F22*(P22),3) -> 0.088 | Z22: 0
B23: 11/A 1 | C23: 274271310 | D23: Premac Murivo základových pásov z betónových tvárnic 300x500x250 mm a s betónovou výplňou | E23: m3 | F23: 1.725 | G23: 0 | H23: 0 | I23: =ROUND(F23*(G23+H23),2) -> 0 | J23: =ROUND(F23*(N23),2) -> 0 | K23: =ROUND(F23*(O23),2) -> 0 | L23: =ROUND(F23*(G23),2) -> 0 | M23: =ROUND(F23*(H23),2) -> 0 | N23: 0 | P23: 2.01285 | R23: 2.01285 | S23: =ROUND(F23*(P23),3) -> 3.472 | Z23: 0
B24: 11/A 1 | C24: 274313341 | D24: Betón základových pásov prostý triedy C16/20 | E24: m3 | F24: 7.8 | G24: 0 | H24: 0 | I24: =ROUND(F24*(G24+H24),2) -> 0 | J24: =ROUND(F24*(N24),2) -> 0 | K24: =ROUND(F24*(O24),2) -> 0 | L24: =ROUND(F24*(G24),2) -> 0 | M24: =ROUND(F24*(H24),2) -> 0 | N24: 0 | P24: 2.19306 | R24: 2.19306 | S24: =ROUND(F24*(P24),3) -> 17.106 | Z24: 0
B25: 11/A 1 | C25: 274361841 | D25: Premac Výstuž z ocele 10 505 pre murivo základových pásov z betónových tvárnic a s betónovou výplňou | E25: t | F25: 0.03203464 | G25: 0 | H25: 0 | I25: =ROUND(F25*(G25+H25),2) -> 0 | J25: =ROUND(F25*(N25),2) -> 0 | K25: =ROUND(F25*(O25),2) -> 0 | L25: =ROUND(F25*(G25),2) -> 0 | M25: =ROUND(F25*(H25),2) -> 0 | N25: 0 | P25: 1.002 | R25: 1.002 | S25: =ROUND(F25*(P25),3) -> 0.032 | Z25: 0
C26: 2 | D26: ZÁKLADY | G26: =ROUND((SUM(L18:L25))/1,2) -> 0 | H26: =ROUND((SUM(M18:M25))/1,2) -> 0 | I26: =ROUND((SUM(I18:I25))/1,2) -> 0 | L26: =ROUND((SUM(L18:L25))/1,2) -> 0 | M26: =ROUND((SUM(M18:M25))/1,2) -> 0 | S26: =ROUND((SUM(S18:S25))/1,2) -> 28.6 | V26: =ROUND((SUM(V18:V25))/1,2) -> 0
C28: 3 | D28: ZVISLÉ KONŠTRUKCIE
B29: 11/A 1 | C29: 311275533 | D29: Murivo nosné z tvárnic PORFIX hladké hr. 300 NSM 500x250x250 | E29: m3 | F29: 14.469 | G29: 0 | H29: 0 | I29: =ROUND(F29*(G29+H29),2) -> 0 | J29: =ROUND(F29*(N29),2) -> 0 | K29: =ROUND(F29*(O29),2) -> 0 | L29: =ROUND(F29*(G29),2) -> 0 | M29: =ROUND(F29*(H29),2) -> 0 | N29: 0 | P29: 0.80967 | R29: 0.80967 | S29: =ROUND(F29*(P29),3) -> 11.715 | Z29: 0
B30: 11/A 1 | C30: 317351107 | D30: Debnenie prekladov s podpernou konštrukciou do 4m, zhotovenie | E30: m2 | F30: 1.89 | G30: 0 | H30: 0 | I30: =ROUND(F30*(G30+H30),2) -> 0 | J30: =ROUND(F30*(N30),2) -> 0 | K30: =ROUND(F30*(O30),2) -> 0 | L30: =ROUND(F30*(G30),2) -> 0 | M30: =ROUND(F30*(H30),2) -> 0 | N30: 0 | P30: 0.00725 | R30: 0.00725 | S30: =ROUND(F30*(P30),3) -> 0.014 | Z30: 0
B31: 11/A 1 | C31: 317351108 | D31: Debnenie prekladov s podpernou konštrukciou do 4m, odstránenie | E31: m2 | F31: 1.89 | G31: 0 | H31: 0 | I31: =ROUND(F31*(G31+H31),2) -> 0 | J31: =ROUND(F31*(N31),2) -> 0 | K31: =ROUND(F31*(O31),2) -> 0 | L31: =ROUND(F31*(G31),2) -> 0 | M31: =ROUND(F31*(H31),2) -> 0 | N31: 0 | S31: =ROUND(F31*(P31),3) -> 0 | Z31: 0
C32: 3 | D32: ZVISLÉ KONŠTRUKCIE | G32: =ROUND((SUM(L28:L31))/1,2) -> 0 | H32: =ROUND((SUM(M28:M31))/1,2) -> 0 | I32: =ROUND((SUM(I28:I31))/1,2) -> 0 | L32: =ROUND((SUM(L28:L31))/1,2) -> 0 | M32: =ROUND((SUM(M28:M31))/1,2) -> 0 | S32: =ROUND((SUM(S28:S31))/1,2) -> 11.73 | V32: =ROUND((SUM(V28:V31))/1,2) -> 0
C34: 4 | D34: VODOROVNÉ KONŠTRUKCIE
B35: 11/A 1 | C35: 417321313 | D35: Betón stužujúcich pásov a vencov železový tr. C 16/20 | E35: m3 | F35: 1.725 | G35: 0 | H35: 0 | I35: =ROUND(F35*(G35+H35),2) -> 0 | J35: =ROUND(F35*(N35),2) -> 0 | K35: =ROUND(F35*(O35),2) -> 0 | L35: =ROUND(F35*(G35),2) -> 0 | M35: =ROUND(F35*(H35),2) -> 0 | N35: 0 | P35: 2.21321 | R35: 2.21321 | S35: =ROUND(F35*(P35),3) -> 3.818 | Z35: 0
B36: 11/A 1 | C36: 417351115 | D36: Debnenie bočníc stužujúcich pásov a vencov vrátane vzpier zhotovenie | E36: m2 | F36: 11.5025 | G36: 0 | H36: 0 | I36: =ROUND(F36*(G36+H36),2) -> 0 | J36: =ROUND(F36*(N36),2) -> 0 | K36: =ROUND(F36*(O36),2) -> 0 | L36: =ROUND(F36*(G36),2) -> 0 | M36: =ROUND(F36*(H36),2) -> 0 | N36: 0 | P36: 0.00341 | R36: 0.00341 | S36: =ROUND(F36*(P36),3) -> 0.039 | Z36: 0
B37: 11/A 1 | C37: 417351116 | D37: Debnenie bočníc stužujúcich pásov a vencov vrátane vzpier odstránenie | E37: m2 | F37: 11.503 | G37: 0 | H37: 0 | I37: =ROUND(F37*(G37+H37),2) -> 0 | J37: =ROUND(F37*(N37),2) -> 0 | K37: =ROUND(F37*(O37),2) -> 0 | L37: =ROUND(F37*(G37),2) -> 0 | M37: =ROUND(F37*(H37),2) -> 0 | N37: 0 | S37: =ROUND(F37*(P37),3) -> 0 | Z37: 0
B38: 11/A 1 | C38: 417361821 | D38: Výstuž stužujúcich pásov a vencov z ocele triedy 10 505 /B500A/ | E38: t | F38: 0.138 | G38: 0 | H38: 0 | I38: =ROUND(F38*(G38+H38),2) -> 0 | J38: =ROUND(F38*(N38),2) -> 0 | K38: =ROUND(F38*(O38),2) -> 0 | L38: =ROUND(F38*(G38),2) -> 0 | M38: =ROUND(F38*(H38),2) -> 0 | N38: 0 | P38: 1.06754 | R38: 1.06754 | S38: =ROUND(F38*(P38),3) -> 0.147 | Z38: 0
C39: 4 | D39: VODOROVNÉ KONŠTRUKCIE | G39: =ROUND((SUM(L34:L38))/1,2) -> 0 | H39: =ROUND((SUM(M34:M38))/1,2) -> 0 | I39: =ROUND((SUM(I34:I38))/1,2) -> 0 | L39: =ROUND((SUM(L34:L38))/1,2) -> 0 | M39: =ROUND((SUM(M34:M38))/1,2) -> 0 | S39: =ROUND((SUM(S34:S38))/1,2) -> 4 | V39: =ROUND((SUM(V34:V38))/1,2) -> 0
C41: 6 | D41: POVRCHOVÉ ÚPRAVY
B42: 11/A 1 | C42: 612467186 | D42: Vnutorná omietka stien CEMIX jednovrstvová pre všetky stavebné materiály, bez dodatočnej povrchovej úpravy miešaná strojne, nanášaná ručne, hr. 10 mm, ozn 073b | E42: m2 | F42: 52.295 | G42: 0 | H42: 0 | I42: =ROUND(F42*(G42+H42),2) -> 0 | J42: =ROUND(F42*(N42),2) -> 0 | K42: =ROUND(F42*(O42),2) -> 0 | L42: =ROUND(F42*(G42),2) -> 0 | M42: =ROUND(F42*(H42),2) -> 0 | N42: 0 | P42: 0.01375 | R42: 0.01375 | S42: =ROUND(F42*(P42),3) -> 0.719 | Z42: 0
B43: 11/A 1 | C43: 612481119 | D43: Potiahnutie vnútorných stien, sklotextílnou mriežkou | E43: m2 | F43: 52.295 | G43: 0 | H43: 0 | I43: =ROUND(F43*(G43+H43),2) -> 0 | J43: =ROUND(F43*(N43),2) -> 0 | K43: =ROUND(F43*(O43),2) -> 0 | L43: =ROUND(F43*(G43),2) -> 0 | M43: =ROUND(F43*(H43),2) -> 0 | N43: 0 | P43: 0.00288 | R43: 0.00288 | S43: =ROUND(F43*(P43),3) -> 0.151 | Z43: 0
B44: 11/A 1 | C44: 615981132_1 | D44: Vloženie tepelnej izolacie z XPS hrúbky 50 mm do debnenia | E44: m2 | F44: 5.9 | G44: 0 | H44: 0 | I44: =ROUND(F44*(G44+H44),2) -> 0 | J44: =ROUND(F44*(N44),2) -> 0 | K44: =ROUND(F44*(O44),2) -> 0 | L44: =ROUND(F44*(G44),2) -> 0 | M44: =ROUND(F44*(H44),2) -> 0 | N44: 0 | S44: =ROUND(F44*(P44),3) -> 0 | Z44: 0
B45: 11/A 1 | C45: 622467631 | D45: Vonkajšia omietka stien CEMIX, pastovitá mozaiková ozn. M, bal. 25 kg, hr. 1,6 mm | E45: m2 | F45: 6.81 | G45: 0 | H45: 0 | I45: =ROUND(F45*(G45+H45),2) -> 0 | J45: =ROUND(F45*(N45),2) -> 0 | K45: =ROUND(F45*(O45),2) -> 0 | L45: =ROUND(F45*(G45),2) -> 0 | M45: =ROUND(F45*(H45),2) -> 0 | N45: 0 | P45: 0.00495 | R45: 0.00495 | S45: =ROUND(F45*(P45),3) -> 0.034 | Z45: 0
...
