Workbook

Sheet Rekapitulácia
A2: Rekapitulácia rozpočtu | F2: Sadzby DPH
A3: Stavba ZŠ Mirkovce 16 | F3: A | G3: B
F4: 0.2 | G4: 0
A6: Názov objektu | B6: ZRN | C6: VRN % | D6: HZS | E6: Kompl.čin. | F6: Ost. náklady | G6: Cena
A7: Prístavba spojovacej chodby | B7: ='SO 5674'!I149-Rekapitulácia!D7 -> 0 | C7: ='Kryci_list 5674'!J26 -> 0 | D7: 0 | E7: ='Kryci_list 5674'!J17 -> 0 | F7: 0 | G7: =B7+C7+D7+E7+F7 -> 0 | K7: ='SO 5674'!K149 -> 0 | Q7: 30.126
A8: Celkom bez DPH | B8: =SUM(B7:B7) -> 0 | C8: =SUM(C7:C7) -> 0 | D8: =SUM(D7:D7) -> 0 | E8: =SUM(E7:E7) -> 0 | F8: =SUM(F7:F7) -> 0 | G8: =SUM(G7:G7)-SUM(Z7:Z7) -> 0
A9: DPH 20% z | B9: =G8-SUM(Rekapitulácia!K7:'Rekapitulácia'!K7)*1 -> 0 | G9: =ROUND(((ROUND(B9,2)*20)/100),2)*1 -> 0
A10: DPH 0% z | B10: =(G8-B9) -> 0 | G10: =ROUND(((ROUND(B10,2)*0)/100),2) -> 0
A11: Celkom v EUR | G11: =SUM(G8:G10) -> 0

Sheet Krycí list stavby
F1: Krycí list stavby | W1: 30.126
B2: Stavba: Stavebné úprav v objekte ZŠ Mirkovce č. 16
I3: Miesto:
I4: Ks:
B5: Zákazka: | F5: Spracoval: Ing. Peter Sütö - suto.sk | I5: Dňa | J5: 30. 4. 2020
B6: Odberateľ: Obec Mirkovce
B7: IČO: 00327484 | G7: DIČ: 2021225613
B8: Projektant:
B9: IČO: | G9: DIČ:
B10: Dodávateľ:
B11: IČO: | G11: DIČ:
B15: A | C15: ZRN | D15: Montáž | E15: Materiál | F15: ZRN spolu | G15: B | H15: Ďalšie náklady
B16: 1 | C16: HSV | D16: ='Kryci_list 5674'!D16 -> 0 | E16: ='Kryci_list 5674'!E16 -> 0 | F16: ='Kryci_list 5674'!F16 -> 0 | G16: 6 | H16: Ostatné náklady | J16: =Rekapitulácia!F8 -> 0
B17: 2 | C17: PSV | D17: ='Kryci_list 5674'!D17 -> 0 | E17: ='Kryci_list 5674'!E17 -> 0 | F17: ='Kryci_list 5674'!F17 -> 0 | G17: 7 | H17: Kompletačná činnosť | J17: =Rekapitulácia!E8 -> 0
B18: 3 | C18: MONT | D18: ='Kryci_list 5674'!D18 -> 0 | E18: ='Kryci_list 5674'!E18 -> 0 | F18: ='Kryci_list 5674'!F18 -> 0 | G18: 8 | H18: HZS | J18: =Rekapitulácia!D8 -> 0
B19: 4 | C19: VRN | D19: ='Kryci_list 5674'!D19 -> 0 | E19: ='Kryci_list 5674'!E19 -> 0 | F19: ='Kryci_list 5674'!F19 -> 0 | G19: 9
B20: 5 | C20: Spolu | F20: =SUM(F16:F19) -> 0 | G20: 10 | H20: Spolu | J20: =SUM(J16:J19) -> 0
B21: C | C21: VRN | G21: D | H21: VRN
B22: 11 | C22: Zariadenie staveniska | F22: ='Kryci_list 5674'!F22 -> 0 | G22: 16 | H22: Sťažené podmienky dopravy | J22: ='Kryci_list 5674'!J22 -> 0
B23: 12 | C23: Sťažené výrobné podmienky | F23: ='Kryci_list 5674'!F23 -> 0 | G23: 17 | H23: Horské oblasti | J23: ='Kryci_list 5674'!J23 -> 0
B24: 13 | C24: Prevádzkové vplyvy | F24: ='Kryci_list 5674'!F24 -> 0 | G24: 18 | H24: Mimostavenisková doprava | J24: ='Kryci_list 5674'!J24 -> 0
B25: 14 | G25: 19
B26: 15 | G26: 20 | H26: Spolu | J26: =SUM(J22:J25)+SUM(F22:F25) -> 0
C27: Projektant,rozpočtár | G27: E | H27: Celkové náklady
G28: 21 | H28: Súčet riadkov 5,10,15,20 | J28: =F20+J20+F26+J26 -> 0
G29: 22 | H29: DPH 20% z | I29: =Rekapitulácia!B9 -> 0 | J29: =ROUND(((ROUND(I29,2)*20)/100),2)*1 -> 0
G30: 23 | H30: DPH 0% z | I30: =Rekapitulácia!B10 -> 0 | J30: =ROUND(((ROUND(I30,2)*0)/100),2) -> 0
G31: 24 | H31: Spolu v EUR | J31: =SUM(J28:J30) -> 0
G32: F
D33: Odberateľ | H33: Dodávateľ

Sheet Kryci_list 5674
F1: Krycí list rozpočtu | W1: 30.126
B2: Stavba: Stavebné úprav v objekte ZŠ Mirkovce č. 16
B3: Objekt chodba | I3: Miesto:
I4: Ks:
B5: Zákazka: | F5: Spracoval: Ing. Peter Sütö - suto.sk | I5: Dňa | J5: 30. 4. 2020
B6: Odberateľ: Obec Mirkovce
B7: IČO: 00327484 | G7: DIČ: 2021225613
B8: Projektant:
B9: IČO: | G9: DIČ:
B10: Dodávateľ:
B11: IČO: | G11: DIČ:
B15: A | C15: ZRN | D15: Montáž | E15: Materiál | F15: ZRN spolu | G15: B | H15: Ďalšie náklady
B16: 1 | C16: HSV | D16: ='Rekap 5674'!B18 -> 0 | E16: ='Rekap 5674'!C18 -> 0 | F16: ='Rekap 5674'!D18 -> 0 | G16: 6 | H16: Ostatné náklady | J16: 0
B17: 2 | C17: PSV | D17: ='Rekap 5674'!B29 -> 0 | E17: ='Rekap 5674'!C29 -> 0 | F17: ='Rekap 5674'!D29 -> 0 | G17: 7 | H17: Kompletačná činnosť | J17: ='SO 5674'!Z149 -> 0
B18: 3 | C18: MONT | G18: 8 | H18: HZS | J18: 0
B19: 4 | C19: VRN | G19: 9
B20: 5 | C20: Spolu | F20: =SUM(F16:F19) -> 0 | G20: 10 | H20: Spolu | J20: =SUM(J16:J19) -> 0
B21: C | C21: VRN | G21: D | H21: VRN
B22: 11 | C22: Zariadenie staveniska | E22: 0% z [H+P+M] | F22: =((F16*U22*0)+(F17*V22*0)+(F18*W22*0))/100 -> 0 | G22: 16 | H22: Sťažené podmienky dopravy | I22: 0% z [H+P+M] | J22: =((F16*X22*0)+(F17*Y22*0)+(F18*Z22*0))/100 -> 0 | U22: 1 | V22: 1 | W22: 1 | X22: 1 | Y22: 1 | Z22: 1
B23: 12 | C23: Sťažené výrobné podmienky | E23: 0% z [H+P] | F23: =((F16*U23*0)+(F17*V23*0)+(F18*W23*0))/100 -> 0 | G23: 17 | H23: Horské oblasti | I23: 0% z [H+P+M] | J23: =((F16*X23*0)+(F17*Y23*0)+(F18*Z23*0))/100 -> 0 | U23: 1 | V23: 1 | W23: 0 | X23: 1 | Y23: 1 | Z23: 1
B24: 13 | C24: Prevádzkové vplyvy | E24: 0% z [H+P+M] | F24: =((F16*U24*0)+(F17*V24*0)+(F18*W24*0))/100 -> 0 | G24: 18 | H24: Mimostavenisková doprava | I24: 0% z [H+P] | J24: =((F16*X24*0)+(F17*Y24*0)+(F18*Z24*0))/100 -> 0 | U24: 1 | V24: 1 | W24: 1 | X24: 1 | Y24: 1 | Z24: 0
B25: 14 | G25: 19
B26: 15 | G26: 20 | H26: Spolu | J26: =SUM(J22:J25)+SUM(F22:F25) -> 0
C27: Projektant,rozpočtár | G27: E | H27: Celkové náklady
G28: 21 | H28: Súčet riadkov 5,10,15,20 | J28: =F20+J20+F26+J26 -> 0
G29: 22 | H29: DPH 20% z | I29: =J28-SUM('SO 5674'!K9:'SO 5674'!K148) -> 0 | J29: =ROUND(((ROUND(I29,2)*20)*1/100),2) -> 0
G30: 23 | H30: DPH 0% z | I30: =SUM('SO 5674'!K9:'SO 5674'!K148) -> 0 | J30: =ROUND(((ROUND(I30,2)*0)/100),2) -> 0
G31: 24 | H31: Spolu v EUR | J31: =SUM(J28:J30) -> 0
G32: F
D33: Odberateľ | G33: 26 | H33: Dodávateľ

Sheet Rekap 5674
A1: Odberateľ: Obec Mirkovce | E1: Spracoval: Ing. Peter Sütö - suto.sk | W1: 30.126
A2: Projektant: | E2: Ks:
A3: Dodávateľ: | E3: Dátum: 30. 4. 2020
A4: Stavba ZŠ Mirkovce 16
A5: Objekt Prístavba spojovacej chodby
A8: Prehľad rozpočtových nákladov
A9: Oddiel | B9: Montáž | C9: Materiál | D9: Spolu | E9: Hmotnosť (T) | F9: Suť (T)
A10: Práce HSV
A11: ZEMNÉ PRÁCE | B11: ='SO 5674'!L16 -> 0 | C11: ='SO 5674'!M16 -> 0 | D11: ='SO 5674'!I16 -> 0 | E11: ='SO 5674'!S16 -> 0 | F11: ='SO 5674'!V16 -> 0
A12: ZÁKLADY | B12: ='SO 5674'!L26 -> 0 | C12: ='SO 5674'!M26 -> 0 | D12: ='SO 5674'!I26 -> 0 | E12: ='SO 5674'!S26 -> 28.6 | F12: ='SO 5674'!V26 -> 0
A13: ZVISLÉ KONŠTRUKCIE | B13: ='SO 5674'!L32 -> 0 | C13: ='SO 5674'!M32 -> 0 | D13: ='SO 5674'!I32 -> 0 | E13: ='SO 5674'!S32 -> 11.73 | F13: ='SO 5674'!V32 -> 0
A14: VODOROVNÉ KONŠTRUKCIE | B14: ='SO 5674'!L39 -> 0 | C14: ='SO 5674'!M39 -> 0 | D14: ='SO 5674'!I39 -> 0 | E14: ='SO 5674'!S39 -> 4 | F14: ='SO 5674'!V39 -> 0
A15: POVRCHOVÉ ÚPRAVY | B15: ='SO 5674'!L52 -> 0 | C15: ='SO 5674'!M52 -> 0 | D15: ='SO 5674'!I52 -> 0 | E15: ='SO 5674'!S52 -> 4.27 | F15: ='SO 5674'!V52 -> 0
A16: OSTATNÉ PRÁCE | B16: ='SO 5674'!L67 -> 0 | C16: ='SO 5674'!M67 -> 0 | D16: ='SO 5674'!I67 -> 0 | E16: ='SO 5674'!S67 -> 0.29 | F16: ='SO 5674'!V67 -> 0.87
A17: PRESUNY HMÔT | B17: ='SO 5674'!L71 -> 0 | C17: ='SO 5674'!M71 -> 0 | D17: ='SO 5674'!I71 -> 0 | E17: ='SO 5674'!S71 -> 0 | F17: ='SO 5674'!V71 -> 0
A18: Práce HSV | B18: ='SO 5674'!L73 -> 0 | C18: ='SO 5674'!M73 -> 0 | D18: ='SO 5674'!I73 -> 0 | E18: ='SO 5674'!S73 -> 48.9 | F18: ='SO 5674'!V73 -> 0.87
A20: Práce PSV
A21: IZOLÁCIE PROTI VODE A VLHKOSTI | B21: ='SO 5674'!L82 -> 0 | C21: ='SO 5674'!M82 -> 0 | D21: ='SO 5674'!I82 -> 0 | E21: ='SO 5674'!S82 -> 0.03 | F21: ='SO 5674'!V82 -> 0
A22: IZOLÁCIE TEPELNÉ BEŽNÝCH STAVEBNÝCH KONŠTRUKCIÍ | B22: ='SO 5674'!L89 -> 0 | C22: ='SO 5674'!M89 -> 0 | D22: ='SO 5674'!I89 -> 0 | E22: ='SO 5674'!S89 -> 0 | F22: ='SO 5674'!V89 -> 0
A23: KONŠTRUKCIE TESÁRSKE | B23: ='SO 5674'!L103 -> 0 | C23: ='SO 5674'!M103 -> 0 | D23: ='SO 5674'!I103 -> 0 | E23: ='SO 5674'!S103 -> 1.68 | F23: ='SO 5674'!V103 -> 0
A24: DREVOSTAVBY | B24: ='SO 5674'!L108 -> 0 | C24: ='SO 5674'!M108 -> 0 | D24: ='SO 5674'!I108 -> 0 | E24: ='SO 5674'!S108 -> 0.61 | F24: ='SO 5674'!V108 -> 0
A25: KONŠTRUKCIE KLAMPIARSKE | B25: ='SO 5674'!L129 -> 0 | C25: ='SO 5674'!M129 -> 0 | D25: ='SO 5674'!I129 -> 0 | E25: ='SO 5674'!S129 -> 0.28 | F25: ='SO 5674'!V129 -> 0.08
A26: PODLAHY A DLAŽBY KERAMICKÉ | B26: ='SO 5674'!L136 -> 0 | C26: ='SO 5674'!M136 -> 0 | D26: ='SO 5674'!I136 -> 0 | E26: ='SO 5674'!S136 -> 0.78 | F26: ='SO 5674'!V136 -> 0
A27: NÁTERY | B27: ='SO 5674'!L141 -> 0 | C27: ='SO 5674'!M141 -> 0 | D27: ='SO 5674'!I141 -> 0 | E27: ='SO 5674'!S141 -> 0 | F27: ='SO 5674'!V141 -> 0
A28: MAĽBY | B28: ='SO 5674'!L146 -> 0 | C28: ='SO 5674'!M146 -> 0 | D28: ='SO 5674'!I146 -> 0 | E28: ='SO 5674'!S146 -> 0.02 | F28: ='SO 5674'!V146 -> 0
A29: Práce PSV | B29: ='SO 5674'!L148 -> 0 | C29: ='SO 5674'!M148 -> 0 | D29: ='SO 5674'!I148 -> 0 | E29: ='SO 5674'!S148 -> 3.4 | F29: ='SO 5674'!V148 -> 0.08
A31: Celkom v EUR | B31: ='SO 5674'!L149 -> 0 | C31: ='SO 5674'!M149 -> 0 | D31: ='SO 5674'!I149 -> 0 | E31: ='SO 5674'!S149 -> 52.3 | F31: ='SO 5674'!V149 -> 0.95

Sheet SO 5674
C1: Odberateľ: Obec Mirkovce | I1: Spracoval: | P1: Ing. Peter Sütö - suto.sk | W1: 30.126
C2: Projektant: | I2: Ks:
C3: Dodávateľ: | I3: Dátum: | P3: 30. 4. 2020
C4: Zákazka - Stavebné úprav v objekte ZŠ Mirkovce č. 16
C5: Objekt
C7: Prehľad rozpočtových nákladov
A8: Por.č. | B8: Cenník | C8: Kód položky | D8: Názov | E8: Mj | F8: Množstvo | G8: Montáž | H8: Materiál | I8: Cena celkom | P8: Hmotnosť/Mj | S8: Hmotnosť | V8: Suť
D9: Práce HSV
C10: 1 | D10: ZEMNÉ PRÁCE
B11: 1/A 1 | C11: 122201101 | D11: Odkopávka a prekopávka nezapažená v hornine 3, do 100 m3 | E11: m3 | F11: 6.09 | G11: 0 | H11: 0 | I11: =ROUND(F11*(G11+H11),2) -> 0 | J11: =ROUND(F11*(N11),2) -> 0 | K11: =ROUND(F11*(O11),2) -> 0 | L11: =ROUND(F11*(G11),2) -> 0 | M11: =ROUND(F11*(H11),2) -> 0 | N11: 0 | S11: =ROUND(F11*(P11),3) -> 0 | Z11: 0
B12: 1/A 1 | C12: 132201101 | D12: Výkop ryhy do šírky 600 mm v horn.3 do 100 m3 | E12: m3 | F12: 9 | G12: 0 | H12: 0 | I12: =ROUND(F12*(G12+H12),2) -> 0 | J12: =ROUND(F12*(N12),2) -> 0 | K12: =ROUND(F12*(O12),2) -> 0 | L12: =ROUND(F12*(G12),2) -> 0 | M12: =ROUND(F12*(H12),2) -> 0 | N12: 0 | S12: =ROUND(F12*(P12),3) -> 0 | Z12: 0
B13: 1/A 1 | C13: 162301102 | D13: Vodorovné premiestnenie výkopku po spevnenej ceste, horniny tr.1-4, do 1000 m | E13: m3 | F13: 13.875 | G13: 0 | H13: 0 | I13: =ROUND(F13*(G13+H13),2) -> 0 | J13: =ROUND(F13*(N13),2) -> 0 | K13: =ROUND(F13*(O13),2) -> 0 | L13: =ROUND(F13*(G13),2) -> 0 | M13: =ROUND(F13*(H13),2) -> 0 | N13: 0 | S13: =ROUND(F13*(P13),3) -> 0 | Z13: 0
B14: 1/A 1 | C14: 171201201 | D14: Uloženie sypaniny na skládky do 100 m3 | E14: m3 | F14: 13.875 | G14: 0 | H14: 0 | I14: =ROUND(F14*(G14+H14),2) -> 0 | J14: =ROUND(F14*(N14),2) -> 0 | K14: =ROUND(F14*(O14),2) -> 0 | L14: =ROUND(F14*(G14),2) -> 0 | M14: =ROUND(F14*(H14),2) -> 0 | N14: 0 | S14: =ROUND(F14*(P14),3) -> 0 | Z14: 0
B15: 1/A 1 | C15: 174101001 | D15: Zásyp sypaninou so zhutnením jám, šachiet, rýh, zárezov alebo okolo objektov do 100 m3 | E15: m3 | F15: 1.215 | G15: 0 | H15: 0 | I15: =ROUND(F15*(G15+H15),2) -> 0 | J15: =ROUND(F15*(N15),2) -> 0 | K15: =ROUND(F15*(O15),2) -> 0 | L15: =ROUND(F15*(G15),2) -> 0 | M15: =ROUND(F15*(H15),2) -> 0 | N15: 0 | S15: =ROUND(F15*(P15),3) -> 0 | Z15: 0
C16: 1 | D16: ZEMNÉ PRÁCE | G16: =ROUND((SUM(L10:L15))/1,2) -> 0 | H16: =ROUND((SUM(M10:M15))/1,2) -> 0 | I16: =ROUND((SUM(I10:I15))/1,2) -> 0 | L16: =ROUND((SUM(L10:L15))/1,2) -> 0 | M16: =ROUND((SUM(M10:M15))/1,2) -> 0 | S16: =ROUND((SUM(S10:S15))/1,2) -> 0 | V16: =ROUND((SUM(V10:V15))/1,2) -> 0
C18: 2 | D18: ZÁKLADY
B19: 11/A 1 | C19: 273321301 | D19: Betón železový základových dosiek triedy C16/20 bez výstuže | E19: m3 | F19: 3.6 | G19: 0 | H19: 0 | I19: =ROUND(F19*(G19+H19),2) -> 0 | J19: =ROUND(F19*(N19),2) -> 0 | K19: =ROUND(F19*(O19),2) -> 0 | L19: =ROUND(F19*(G19),2) -> 0 | M19: =ROUND(F19*(H19),2) -> 0 | N19: 0 | P19: 2.19306 | R19: 2.19306 | S19: =ROUND(F19*(P19),3) -> 7.895 | Z19: 0
B20: 11/A 1 | C20: 273351217 | D20: Debnenie základových dosiek, zhotovenie-tradičné | E20: m2 | F20: 2.36 | G20: 0 | H20: 0 | I20: =ROUND(F20*(G20+H20),2) -> 0 | J20: =ROUND(F20*(N20),2) -> 0 | K20: =ROUND(F20*(O20),2) -> 0 | L20: =ROUND(F20*(G20),2) -> 0 | M20: =ROUND(F20*(H20),2) -> 0 | N20: 0 | P20: 0.00407 | R20: 0.00407 | S20: =ROUND(F20*(P20),3) -> 0.01 | Z20: 0
B21: 11/A 1 | C21: 273351218 | D21: Debnenie základových dosiek, odstránenie-tradičné | E21: m2 | F21: 2.36 | G21: 0 | H21: 0 | I21: =ROUND(F21*(G21+H21),2) -> 0 | J21: =ROUND(F21*(N21),2) -> 0 | K21: =ROUND(F21*(O21),2) -> 0 | L21: =ROUND(F21*(G21),2) -> 0 | M21: =ROUND(F21*(H21),2) -> 0 | N21: 0 | S21: =ROUND(F21*(P21),3) -> 0 | Z21: 0
B22: 11/A 1 | C22: 273362122 | D22: Výstuž základových dosiek zo sietí typu KARI, priemer drôtu 5/5 mm, veľkosť oka 150 x 150 mm | E22: m2 | F22: 36 | G22: 0 | H22: 0 | I22: =ROUND(F22*(G22+H22),2) -> 0 | J22: =ROUND(F22*(N22),2) -> 0 | K22: =ROUND(F22*(O22),2) -> 0 | L22: =ROUND(F22*(G22),2) -> 0 | M22: =ROUND(F22*(H22),2) -> 0 | N22: 0 | P22: 0.00245 | R22: 0.00245 | S22: =ROUND(F22*(P22),3) -> 0.088 | Z22: 0
B23: 11/A 1 | C23: 274271310 | D23: Premac Murivo základových pásov z betónových tvárnic 300x500x250 mm a s betónovou výplňou | E23: m3 | F23: 1.725 | G23: 0 | H23: 0 | I23: =ROUND(F23*(G23+H23),2) -> 0 | J23: =ROUND(F23*(N23),2) -> 0 | K23: =ROUND(F23*(O23),2) -> 0 | L23: =ROUND(F23*(G23),2) -> 0 | M23: =ROUND(F23*(H23),2) -> 0 | N23: 0 | P23: 2.01285 | R23: 2.01285 | S23: =ROUND(F23*(P23),3) -> 3.472 | Z23: 0
B24: 11/A 1 | C24: 274313341 | D24: Betón základových pásov prostý triedy C16/20 | E24: m3 | F24: 7.8 | G24: 0 | H24: 0 | I24: =ROUND(F24*(G24+H24),2) -> 0 | J24: =ROUND(F24*(N24),2) -> 0 | K24: =ROUND(F24*(O24),2) -> 0 | L24: =ROUND(F24*(G24),2) -> 0 | M24: =ROUND(F24*(H24),2) -> 0 | N24: 0 | P24: 2.19306 | R24: 2.19306 | S24: =ROUND(F24*(P24),3) -> 17.106 | Z24: 0
B25: 11/A 1 | C25: 274361841 | D25: Premac Výstuž z ocele 10 505 pre murivo základových pásov z betónových tvárnic a s betónovou výplňou | E25: t | F25: 0.03203464 | G25: 0 | H25: 0 | I25: =ROUND(F25*(G25+H25),2) -> 0 | J25: =ROUND(F25*(N25),2) -> 0 | K25: =ROUND(F25*(O25),2) -> 0 | L25: =ROUND(F25*(G25),2) -> 0 | M25: =ROUND(F25*(H25),2) -> 0 | N25: 0 | P25: 1.002 | R25: 1.002 | S25: =ROUND(F25*(P25),3) -> 0.032 | Z25: 0
C26: 2 | D26: ZÁKLADY | G26: =ROUND((SUM(L18:L25))/1,2) -> 0 | H26: =ROUND((SUM(M18:M25))/1,2) -> 0 | I26: =ROUND((SUM(I18:I25))/1,2) -> 0 | L26: =ROUND((SUM(L18:L25))/1,2) -> 0 | M26: =ROUND((SUM(M18:M25))/1,2) -> 0 | S26: =ROUND((SUM(S18:S25))/1,2) -> 28.6 | V26: =ROUND((SUM(V18:V25))/1,2) -> 0
C28: 3 | D28: ZVISLÉ KONŠTRUKCIE
B29: 11/A 1 | C29: 311275533 | D29: Murivo nosné z tvárnic PORFIX hladké hr. 300 NSM 500x250x250 | E29: m3 | F29: 14.469 | G29: 0 | H29: 0 | I29: =ROUND(F29*(G29+H29),2) -> 0 | J29: =ROUND(F29*(N29),2) -> 0 | K29: =ROUND(F29*(O29),2) -> 0 | L29: =ROUND(F29*(G29),2) -> 0 | M29: =ROUND(F29*(H29),2) -> 0 | N29: 0 | P29: 0.80967 | R29: 0.80967 | S29: =ROUND(F29*(P29),3) -> 11.715 | Z29: 0
B30: 11/A 1 | C30: 317351107 | D30: Debnenie prekladov s podpernou konštrukciou do 4m, zhotovenie | E30: m2 | F30: 1.89 | G30: 0 | H30: 0 | I30: =ROUND(F30*(G30+H30),2) -> 0 | J30: =ROUND(F30*(N30),2) -> 0 | K30: =ROUND(F30*(O30),2) -> 0 | L30: =ROUND(F30*(G30),2) -> 0 | M30: =ROUND(F30*(H30),2) -> 0 | N30: 0 | P30: 0.00725 | R30: 0.00725 | S30: =ROUND(F30*(P30),3) -> 0.014 | Z30: 0
B31: 11/A 1 | C31: 317351108 | D31: Debnenie prekladov s podpernou konštrukciou do 4m, odstránenie | E31: m2 | F31: 1.89 | G31: 0 | H31: 0 | I31: =ROUND(F31*(G31+H31),2) -> 0 | J31: =ROUND(F31*(N31),2) -> 0 | K31: =ROUND(F31*(O31),2) -> 0 | L31: =ROUND(F31*(G31),2) -> 0 | M31: =ROUND(F31*(H31),2) -> 0 | N31: 0 | S31: =ROUND(F31*(P31),3) -> 0 | Z31: 0
C32: 3 | D32: ZVISLÉ KONŠTRUKCIE | G32: =ROUND((SUM(L28:L31))/1,2) -> 0 | H32: =ROUND((SUM(M28:M31))/1,2) -> 0 | I32: =ROUND((SUM(I28:I31))/1,2) -> 0 | L32: =ROUND((SUM(L28:L31))/1,2) -> 0 | M32: =ROUND((SUM(M28:M31))/1,2) -> 0 | S32: =ROUND((SUM(S28:S31))/1,2) -> 11.73 | V32: =ROUND((SUM(V28:V31))/1,2) -> 0
C34: 4 | D34: VODOROVNÉ KONŠTRUKCIE
B35: 11/A 1 | C35: 417321313 | D35: Betón stužujúcich pásov a vencov železový tr. C 16/20 | E35: m3 | F35: 1.725 | G35: 0 | H35: 0 | I35: =ROUND(F35*(G35+H35),2) -> 0 | J35: =ROUND(F35*(N35),2) -> 0 | K35: =ROUND(F35*(O35),2) -> 0 | L35: =ROUND(F35*(G35),2) -> 0 | M35: =ROUND(F35*(H35),2) -> 0 | N35: 0 | P35: 2.21321 | R35: 2.21321 | S35: =ROUND(F35*(P35),3) -> 3.818 | Z35: 0
B36: 11/A 1 | C36: 417351115 | D36: Debnenie bočníc stužujúcich pásov a vencov vrátane vzpier zhotovenie | E36: m2 | F36: 11.5025 | G36: 0 | H36: 0 | I36: =ROUND(F36*(G36+H36),2) -> 0 | J36: =ROUND(F36*(N36),2) -> 0 | K36: =ROUND(F36*(O36),2) -> 0 | L36: =ROUND(F36*(G36),2) -> 0 | M36: =ROUND(F36*(H36),2) -> 0 | N36: 0 | P36: 0.00341 | R36: 0.00341 | S36: =ROUND(F36*(P36),3) -> 0.039 | Z36: 0
B37: 11/A 1 | C37: 417351116 | D37: Debnenie bočníc stužujúcich pásov a vencov vrátane vzpier odstránenie | E37: m2 | F37: 11.503 | G37: 0 | H37: 0 | I37: =ROUND(F37*(G37+H37),2) -> 0 | J37: =ROUND(F37*(N37),2) -> 0 | K37: =ROUND(F37*(O37),2) -> 0 | L37: =ROUND(F37*(G37),2) -> 0 | M37: =ROUND(F37*(H37),2) -> 0 | N37: 0 | S37: =ROUND(F37*(P37),3) -> 0 | Z37: 0
B38: 11/A 1 | C38: 417361821 | D38: Výstuž stužujúcich pásov a vencov z ocele triedy 10 505 /B500A/ | E38: t | F38: 0.138 | G38: 0 | H38: 0 | I38: =ROUND(F38*(G38+H38),2) -> 0 | J38: =ROUND(F38*(N38),2) -> 0 | K38: =ROUND(F38*(O38),2) -> 0 | L38: =ROUND(F38*(G38),2) -> 0 | M38: =ROUND(F38*(H38),2) -> 0 | N38: 0 | P38: 1.06754 | R38: 1.06754 | S38: =ROUND(F38*(P38),3) -> 0.147 | Z38: 0
C39: 4 | D39: VODOROVNÉ KONŠTRUKCIE | G39: =ROUND((SUM(L34:L38))/1,2) -> 0 | H39: =ROUND((SUM(M34:M38))/1,2) -> 0 | I39: =ROUND((SUM(I34:I38))/1,2) -> 0 | L39: =ROUND((SUM(L34:L38))/1,2) -> 0 | M39: =ROUND((SUM(M34:M38))/1,2) -> 0 | S39: =ROUND((SUM(S34:S38))/1,2) -> 4 | V39: =ROUND((SUM(V34:V38))/1,2) -> 0
C41: 6 | D41: POVRCHOVÉ ÚPRAVY
B42: 11/A 1 | C42: 612467186 | D42: Vnutorná omietka stien CEMIX jednovrstvová pre všetky stavebné materiály, bez dodatočnej povrchovej úpravy miešaná strojne, nanášaná ručne, hr. 10 mm, ozn 073b | E42: m2 | F42: 52.295 | G42: 0 | H42: 0 | I42: =ROUND(F42*(G42+H42),2) -> 0 | J42: =ROUND(F42*(N42),2) -> 0 | K42: =ROUND(F42*(O42),2) -> 0 | L42: =ROUND(F42*(G42),2) -> 0 | M42: =ROUND(F42*(H42),2) -> 0 | N42: 0 | P42: 0.01375 | R42: 0.01375 | S42: =ROUND(F42*(P42),3) -> 0.719 | Z42: 0
B43: 11/A 1 | C43: 612481119 | D43: Potiahnutie vnútorných stien, sklotextílnou mriežkou | E43: m2 | F43: 52.295 | G43: 0 | H43: 0 | I43: =ROUND(F43*(G43+H43),2) -> 0 | J43: =ROUND(F43*(N43),2) -> 0 | K43: =ROUND(F43*(O43),2) -> 0 | L43: =ROUND(F43*(G43),2) -> 0 | M43: =ROUND(F43*(H43),2) -> 0 | N43: 0 | P43: 0.00288 | R43: 0.00288 | S43: =ROUND(F43*(P43),3) -> 0.151 | Z43: 0
B44: 11/A 1 | C44: 615981132_1 | D44: Vloženie tepelnej izolacie z XPS hrúbky 50 mm do debnenia | E44: m2 | F44: 5.9 | G44: 0 | H44: 0 | I44: =ROUND(F44*(G44+H44),2) -> 0 | J44: =ROUND(F44*(N44),2) -> 0 | K44: =ROUND(F44*(O44),2) -> 0 | L44: =ROUND(F44*(G44),2) -> 0 | M44: =ROUND(F44*(H44),2) -> 0 | N44: 0 | S44: =ROUND(F44*(P44),3) -> 0 | Z44: 0
B45: 11/A 1 | C45: 622467631 | D45: Vonkajšia omietka stien CEMIX, pastovitá mozaiková ozn. M, bal. 25 kg, hr. 1,6 mm | E45: m2 | F45: 6.81 | G45: 0 | H45: 0 | I45: =ROUND(F45*(G45+H45),2) -> 0 | J45: =ROUND(F45*(N45),2) -> 0 | K45: =ROUND(F45*(O45),2) -> 0 | L45: =ROUND(F45*(G45),2) -> 0 | M45: =ROUND(F45*(H45),2) -> 0 | N45: 0 | P45: 0.00495 | R45: 0.00495 | S45: =ROUND(F45*(P45),3) -> 0.034 | Z45: 0
B46: 11/A 1 | C46: 622467658 | D46: CAPAROL Vonkajšia omietka stien Capatect SI Reibputz tenkovrstvová ryhovaná, hrúbka 2 mm | E46: m2 | F46: 56.77 | G46: 0 | H46: 0 | I46: =ROUND(F46*(G46+H46),2) -> 0 | J46: =ROUND(F46*(N46),2) -> 0 | K46: =ROUND(F46*(O46),2) -> 0 | L46: =ROUND(F46*(G46),2) -> 0 | M46: =ROUND(F46*(H46),2) -> 0 | N46: 0 | P46: 0.0032 | R46: 0.0032 | S46: =ROUND(F46*(P46),3) -> 0.182 | Z46: 0
B47: 11/A 1 | C47: 625257200 | D47: Kontaktný zatepľovací systém Capatect Basic - Line CAPAROL hr. 50 mm bez povrchovej úpravy | E47: m2 | F47: 6 | G47: 0 | H47: 0 | I47: =ROUND(F47*(G47+H47),2) -> 0 | J47: =ROUND(F47*(N47),2) -> 0 | K47: =ROUND(F47*(O47),2) -> 0 | L47: =ROUND(F47*(G47),2) -> 0 | M47: =ROUND(F47*(H47),2) -> 0 | N47: 0 | P47: 0.00916 | R47: 0.00916 | S47: =ROUND(F47*(P47),3) -> 0.055 | Z47: 0
B48: 11/A 1 | C48: 625257310 | D48: Kontaktný zatepľovací systém ostenia Capatect Basic - Line CAPAROL hr. 20 mm bez povrchovej úpravy | E48: m2 | F48: 1.95 | G48: 0 | H48: 0 | I48: =ROUND(F48*(G48+H48),2) -> 0 | J48: =ROUND(F48*(N48),2) -> 0 | K48: =ROUND(F48*(O48),2) -> 0 | L48: =ROUND(F48*(G48),2) -> 0 | M48: =ROUND(F48*(H48),2) -> 0 | N48: 0 | P48: 0.00832 | R48: 0.00832 | S48: =ROUND(F48*(P48),3) -> 0.016 | Z48: 0
B49: 11/A 1 | C49: 632450409 | D49: Cementový poter CEMIX, na zhotovenie združených a plávajúcich poterov, Cementový poter 20 MPa, ozn. 010, hr. 50 mm | E49: m2 | F49: 29.1 | G49: 0 | H49: 0 | I49: =ROUND(F49*(G49+H49),2) -> 0 | J49: =ROUND(F49*(N49),2) -> 0 | K49: =ROUND(F49*(O49),2) -> 0 | L49: =ROUND(F49*(G49),2) -> 0 | M49: =ROUND(F49*(H49),2) -> 0 | N49: 0 | P49: 0.105 | R49: 0.105 | S49: =ROUND(F49*(P49),3) -> 3.056 | Z49: 0
B50: 14/C 1 | C50: 642944121 | D50: Osadenie oceľ.dverných zárubní lisov.alebo z uhol.s vybet.prahu, dodatočne,s plochou do 2,5 m2 | E50: kus | F50: 1 | G50: 0 | H50: 0 | I50: =ROUND(F50*(G50+H50),2) -> 0 | J50: =ROUND(F50*(N50),2) -> 0 | K50: =ROUND(F50*(O50),2) -> 0 | L50: =ROUND(F50*(G50),2) -> 0 | M50: =ROUND(F50*(H50),2) -> 0 | N50: 0 | P50: 0.04416 | R50: 0.04416 | S50: =ROUND(F50*(P50),3) -> 0.044 | Z50: 0
B51: S/S50 | C51: 5533198700 | D51: Zárubňa oceľová CGU 90x197x16cm P | E51: kus | F51: 1 | G51: 0 | H51: 0 | I51: =ROUND(F51*(G51+H51),2) -> 0 | J51: =ROUND(F51*(N51),2) -> 0 | K51: =ROUND(F51*(O51),2) -> 0 | L51: =ROUND(F51*(G51),2) -> 0 | M51: =ROUND(F51*(H51),2) -> 0 | N51: 0 | P51: 0.0146 | R51: 0.0146 | S51: =ROUND(F51*(P51),3) -> 0.015 | Z51: 0
C52: 6 | D52: POVRCHOVÉ ÚPRAVY | G52: =ROUND((SUM(L41:L51))/1,2) -> 0 | H52: =ROUND((SUM(M41:M51))/1,2) -> 0 | I52: =ROUND((SUM(I41:I51))/1,2) -> 0 | L52: =ROUND((SUM(L41:L51))/1,2) -> 0 | M52: =ROUND((SUM(M41:M51))/1,2) -> 0 | S52: =ROUND((SUM(S41:S51))/1,2) -> 4.27 | V52: =ROUND((SUM(V41:V51))/1,2) -> 0
C54: 9 | D54: OSTATNÉ PRÁCE
B55: 3/A 1 | C55: 941955001 | D55: Lešenie ľahké pracovné pomocné, s výškou lešeňovej podlahy do 1,20 m | E55: m2 | F55: 29.1 | G55: 0 | H55: 0 | I55: =ROUND(F55*(G55+H55),2) -> 0 | J55: =ROUND(F55*(N55),2) -> 0 | K55: =ROUND(F55*(O55),2) -> 0 | L55: =ROUND(F55*(G55),2) -> 0 | M55: =ROUND(F55*(H55),2) -> 0 | N55: 0 | P55: 0.00153 | R55: 0.00153 | S55: =ROUND(F55*(P55),3) -> 0.045 | Z55: 0
B56: 11/A 1 | C56: 95399618110 | D56: Rohový PVC profil so sklovláknitou armovacou tkaninou 100x100 mm | E56: M | F56: 19.5 | G56: 0 | H56: 0 | I56: =ROUND(F56*(G56+H56),2) -> 0 | J56: =ROUND(F56*(N56),2) -> 0 | K56: =ROUND(F56*(O56),2) -> 0 | L56: =ROUND(F56*(G56),2) -> 0 | M56: =ROUND(F56*(H56),2) -> 0 | N56: 0 | P56: 0.000945 | R56: 0.000945 | S56: =ROUND(F56*(P56),3) -> 0.018 | Z56: 0
B57: 11/A 1 | C57: 95399619110 | D57: Výstužna vrstva vytvorená pomocou armovacej tkaniny a strierkovej hmoty | E57: M2 | F57: 55.63 | G57: 0 | H57: 0 | I57: =ROUND(F57*(G57+H57),2) -> 0 | J57: =ROUND(F57*(N57),2) -> 0 | K57: =ROUND(F57*(O57),2) -> 0 | L57: =ROUND(F57*(G57),2) -> 0 | M57: =ROUND(F57*(H57),2) -> 0 | N57: 0 | P57: 0.0041595 | R57: 0.0041595 | S57: =ROUND(F57*(P57),3) -> 0.231 | Z57: 0
B58: 13/B 1 | C58: 967031132 | D58: Prikresanie rovných ostení, bez odstupu, po hrubomvybúraní otvorov, v murive tehl. na maltu, -0,05700t | E58: m2 | F58: 0.81 | G58: 0 | H58: 0 | I58: =ROUND(F58*(G58+H58),2) -> 0 | J58: =ROUND(F58*(N58),2) -> 0 | K58: =ROUND(F58*(O58),2) -> 0 | L58: =ROUND(F58*(G58),2) -> 0 | M58: =ROUND(F58*(H58),2) -> 0 | N58: 0 | S58: =ROUND(F58*(P58),3) -> 0 | V58: =ROUND(F58*(X58),3) -> 0.046 | X58: 0.057 | Z58: 0
B59: 13/B 1 | C59: 968061112 | D59: Vyvesenie alebo zavesenie dreveného okenného krídla do 1, 5 m2 | E59: kus | F59: 1 | G59: 0 | H59: 0 | I59: =ROUND(F59*(G59+H59),2) -> 0 | J59: =ROUND(F59*(N59),2) -> 0 | K59: =ROUND(F59*(O59),2) -> 0 | L59: =ROUND(F59*(G59),2) -> 0 | M59: =ROUND(F59*(H59),2) -> 0 | N59: 0 | S59: =ROUND(F59*(P59),3) -> 0 | Z59: 0
B60: 13/B 1 | C60: 968062355 | D60: Vybúranie drevených rámov okien dvojitých alebo zdvojených, plochy do 2 m2, -0,06300t | E60: m2 | F60: 1.35 | G60: 0 | H60: 0 | I60: =ROUND(F60*(G60+H60),2) -> 0 | J60: =ROUND(F60*(N60),2) -> 0 | K60: =ROUND(F60*(O60),2) -> 0 | L60: =ROUND(F60*(G60),2) -> 0 | M60: =ROUND(F60*(H60),2) -> 0 | N60: 0 | S60: =ROUND(F60*(P60),3) -> 0 | V60: =ROUND(F60*(X60),3) -> 0.085 | X60: 0.063 | Z60: 0
B61: 13/B 1 | C61: 971033561 | D61: Vybúranie otvorov v murive tehl. plochy do 1 m2 hr.do 600 mm, -1,87500t | E61: m3 | F61: 0.3645 | G61: 0 | H61: 0 | I61: =ROUND(F61*(G61+H61),2) -> 0 | J61: =ROUND(F61*(N61),2) -> 0 | K61: =ROUND(F61*(O61),2) -> 0 | L61: =ROUND(F61*(G61),2) -> 0 | M61: =ROUND(F61*(H61),2) -> 0 | N61: 0 | S61: =ROUND(F61*(P61),3) -> 0 | V61: =ROUND(F61*(X61),3) -> 0.683 | X61: 1.875 | Z61: 0
B62: 13/B 1 | C62: 973031824 | D62: Vysekanie káps v murive z tehál pre zaviazanie múrov hrúbky do 300 mm | E62: m | F62: 5 | G62: 0 | H62: 0 | I62: =ROUND(F62*(G62+H62),2) -> 0 | J62: =ROUND(F62*(N62),2) -> 0 | K62: =ROUND(F62*(O62),2) -> 0 | L62: =ROUND(F62*(G62),2) -> 0 | M62: =ROUND(F62*(H62),2) -> 0 | N62: 0 | S62: =ROUND(F62*(P62),3) -> 0 | V62: =ROUND(F62*(X62),3) -> 0.055 | X62: 0.011 | Z62: 0
B63: 13/B 1 | C63: 979081111 | D63: Odvoz sutiny a vybúraných hmôt na skládku do 1 km | E63: t | F63: 0.951 | G63: 0 | H63: 0 | I63: =ROUND(F63*(G63+H63),2) -> 0 | J63: =ROUND(F63*(N63),2) -> 0 | K63: =ROUND(F63*(O63),2) -> 0 | L63: =ROUND(F63*(G63),2) -> 0 | M63: =ROUND(F63*(H63),2) -> 0 | N63: 0 | S63: =ROUND(F63*(P63),3) -> 0 | Z63: 0
B64: 13/B 1 | C64: 979081121 | D64: Odvoz sutiny a vybúraných hmôt na skládku za každý ďalší 1 km | E64: t | F64: 23.775 | G64: 0 | H64: 0 | I64: =ROUND(F64*(G64+H64),2) -> 0 | J64: =ROUND(F64*(N64),2) -> 0 | K64: =ROUND(F64*(O64),2) -> 0 | L64: =ROUND(F64*(G64),2) -> 0 | M64: =ROUND(F64*(H64),2) -> 0 | N64: 0 | S64: =ROUND(F64*(P64),3) -> 0 | Z64: 0
B65: 13/B 1 | C65: 979082111 | D65: Vnútrostavenisková doprava sutiny a vybúraných hmôt do 10 m | E65: t | F65: 0.951 | G65: 0 | H65: 0 | I65: =ROUND(F65*(G65+H65),2) -> 0 | J65: =ROUND(F65*(N65),2) -> 0 | K65: =ROUND(F65*(O65),2) -> 0 | L65: =ROUND(F65*(G65),2) -> 0 | M65: =ROUND(F65*(H65),2) -> 0 | N65: 0 | S65: =ROUND(F65*(P65),3) -> 0 | Z65: 0
B66: 13/B 1 | C66: 979089602 | D66: Poplatok za skládku odpadov zo stavieb a demolácií z kategórie "O" - ostatné" | E66: t | F66: 0.951 | G66: 0 | H66: 0 | I66: =ROUND(F66*(G66+H66),2) -> 0 | J66: =ROUND(F66*(N66),2) -> 0 | K66: =ROUND(F66*(O66),2) -> 0 | L66: =ROUND(F66*(G66),2) -> 0 | M66: =ROUND(F66*(H66),2) -> 0 | N66: 0 | S66: =ROUND(F66*(P66),3) -> 0 | Z66: 0
C67: 9 | D67: OSTATNÉ PRÁCE | G67: =ROUND((SUM(L54:L66))/1,2) -> 0 | H67: =ROUND((SUM(M54:M66))/1,2) -> 0 | I67: =ROUND((SUM(I54:I66))/1,2) -> 0 | L67: =ROUND((SUM(L54:L66))/1,2) -> 0 | M67: =ROUND((SUM(M54:M66))/1,2) -> 0 | S67: =ROUND((SUM(S54:S66))/1,2) -> 0.29 | V67: =ROUND((SUM(V54:V66))/1,2) -> 0.87
C69: 99 | D69: PRESUNY HMÔT
B70: 11/A 1 | C70: 998011001 | D70: Presun hmôt pre budovy JKSO 801, 803,812,zvislá konštr.z tehál,tvárnic,z kovu výšky do 6 m | E70: t | F70: 48.90093 | G70: 0 | H70: 0 | I70: =ROUND(F70*(G70+H70),2) -> 0 | J70: =ROUND(F70*(N70),2) -> 0 | K70: =ROUND(F70*(O70),2) -> 0 | L70: =ROUND(F70*(G70),2) -> 0 | M70: =ROUND(F70*(H70),2) -> 0 | N70: 0 | S70: =ROUND(F70*(P70),3) -> 0 | Z70: 0
C71: 99 | D71: PRESUNY HMÔT | G71: =ROUND((SUM(L69:L70))/1,2) -> 0 | H71: =ROUND((SUM(M69:M70))/1,2) -> 0 | I71: =ROUND((SUM(I69:I70))/1,2) -> 0 | L71: =ROUND((SUM(L69:L70))/1,2) -> 0 | M71: =ROUND((SUM(M69:M70))/1,2) -> 0 | S71: =ROUND((SUM(S69:S70))/1,2) -> 0 | V71: =ROUND((SUM(V69:V70))/1,2) -> 0
D73: Práce HSV | G73: =ROUND((SUM(L9:L72))/2,2) -> 0 | H73: =ROUND((SUM(M9:M72))/2,2) -> 0 | I73: =ROUND((SUM(I9:I72))/2,2) -> 0 | L73: =ROUND((SUM(L9:L72))/2,2) -> 0 | M73: =ROUND((SUM(M9:M72))/2,2) -> 0 | S73: =ROUND((SUM(S9:S72))/2,2) -> 48.9 | V73: =ROUND((SUM(V9:V72))/2,2) -> 0.87
D75: Práce PSV
C76: 711 | D76: IZOLÁCIE PROTI VODE A VLHKOSTI
B77: 711/A 1 | C77: 711111001 | D77: Izolácia proti zemnej vlhkosti vodorovná penetračným náterom za studena | E77: m2 | F77: 36 | G77: 0 | H77: 0 | I77: =ROUND(F77*(G77+H77),2) -> 0 | J77: =ROUND(F77*(N77),2) -> 0 | K77: =ROUND(F77*(O77),2) -> 0 | L77: =ROUND(F77*(G77),2) -> 0 | M77: =ROUND(F77*(H77),2) -> 0 | N77: 0 | S77: =ROUND(F77*(P77),3) -> 0 | Z77: 0
B78: 711/A 1 | C78: 711141559 | D78: Izolácia proti zemnej vlhkosti a tlakovej vode vodorovná NAIP pritavením | E78: m2 | F78: 36 | G78: 0 | H78: 0 | I78: =ROUND(F78*(G78+H78),2) -> 0 | J78: =ROUND(F78*(N78),2) -> 0 | K78: =ROUND(F78*(O78),2) -> 0 | L78: =ROUND(F78*(G78),2) -> 0 | M78: =ROUND(F78*(H78),2) -> 0 | N78: 0 | P78: 0.00054 | R78: 0.00054 | S78: =ROUND(F78*(P78),3) -> 0.019 | Z78: 0
B79: 711/A 1 | C79: 998711101 | D79: Presun hmôt pre izoláciu proti vode v objektoch výšky do 6 m | E79: t | F79: 0.03024 | G79: 0 | H79: 0 | I79: =ROUND(F79*(G79+H79),2) -> 0 | J79: =ROUND(F79*(N79),2) -> 0 | K79: =ROUND(F79*(O79),2) -> 0 | L79: =ROUND(F79*(G79),2) -> 0 | M79: =ROUND(F79*(H79),2) -> 0 | N79: 0 | S79: =ROUND(F79*(P79),3) -> 0 | Z79: 0
B80: S/S10 | C80: 1116315600 | D80: Lak asfaltový ALP-S-PENETRAL S v sudoch | E80: t | F80: 0.0108 | G80: 0 | H80: 0 | I80: =ROUND(F80*(G80+H80),2) -> 0 | J80: =ROUND(F80*(N80),2) -> 0 | K80: =ROUND(F80*(O80),2) -> 0 | L80: =ROUND(F80*(G80),2) -> 0 | M80: =ROUND(F80*(H80),2) -> 0 | N80: 0 | P80: 1 | R80: 1 | S80: =ROUND(F80*(P80),3) -> 0.011 | Z80: 0
B81: S/S90 | C81: 628171010402 | D81: DEHTOCHEMA Klasický asfaltovaný pás BITUBITAGIT PE V60S35 (10m), 1x10 m na báze oxidovaného asfaltu | E81: M2 | F81: 41.4 | G81: 0 | H81: 0 | I81: =ROUND(F81*(G81+H81),2) -> 0 | J81: =ROUND(F81*(N81),2) -> 0 | K81: =ROUND(F81*(O81),2) -> 0 | L81: =ROUND(F81*(G81),2) -> 0 | M81: =ROUND(F81*(H81),2) -> 0 | N81: 0 | S81: =ROUND(F81*(P81),3) -> 0 | Z81: 0
C82: 711 | D82: IZOLÁCIE PROTI VODE A VLHKOSTI | G82: =ROUND((SUM(L76:L81))/1,2) -> 0 | H82: =ROUND((SUM(M76:M81))/1,2) -> 0 | I82: =ROUND((SUM(I76:I81))/1,2) -> 0 | L82: =ROUND((SUM(L76:L81))/1,2) -> 0 | M82: =ROUND((SUM(M76:M81))/1,2) -> 0 | S82: =ROUND((SUM(S76:S81))/1,2) -> 0.03 | V82: =ROUND((SUM(V76:V81))/1,2) -> 0
C84: 713 | D84: IZOLÁCIE TEPELNÉ BEŽNÝCH STAVEBNÝCH KONŠTRUKCIÍ
B85: 713/A 1 | C85: 713120001 | D85: Zakrytie tepelnej podlahovej izolácie fóliou | E85: m2 | F85: 29.1 | G85: 0 | H85: 0 | I85: =ROUND(F85*(G85+H85),2) -> 0 | J85: =ROUND(F85*(N85),2) -> 0 | K85: =ROUND(F85*(O85),2) -> 0 | L85: =ROUND(F85*(G85),2) -> 0 | M85: =ROUND(F85*(H85),2) -> 0 | N85: 0 | P85: 0.00011 | R85: 0.00011 | S85: =ROUND(F85*(P85),3) -> 0.003 | Z85: 0
B86: 713/A 1 | C86: 713122110 | D86: Montáž jednovrstvovej tepelnej izolácie podlahy tepelnoizolačnými doskami | E86: m2 | F86: 29.1 | G86: 0 | H86: 0 | I86: =ROUND(F86*(G86+H86),2) -> 0 | J86: =ROUND(F86*(N86),2) -> 0 | K86: =ROUND(F86*(O86),2) -> 0 | L86: =ROUND(F86*(G86),2) -> 0 | M86: =ROUND(F86*(H86),2) -> 0 | N86: 0 | S86: =ROUND(F86*(P86),3) -> 0 | Z86: 0
B87: 713/A 5 | C87: 998713101 | D87: Presun hmôt pre izolácie tepelné v objektoch výšky do 6 m | E87: t | F87: 0.003201 | G87: 0 | H87: 0 | I87: =ROUND(F87*(G87+H87),2) -> 0 | J87: =ROUND(F87*(N87),2) -> 0 | K87: =ROUND(F87*(O87),2) -> 0 | L87: =ROUND(F87*(G87),2) -> 0 | M87: =ROUND(F87*(H87),2) -> 0 | N87: 0 | S87: =ROUND(F87*(P87),3) -> 0 | Z87: 0
B88: S/S20 | C88: 283034010508 | D88: POLYFORM Polystyrén EPS 100 S, stabil, hrúbka 80 mm | E88: M2 | F88: 29.682 | G88: 0 | H88: 0 | I88: =ROUND(F88*(G88+H88),2) -> 0 | J88: =ROUND(F88*(N88),2) -> 0 | K88: =ROUND(F88*(O88),2) -> 0 | L88: =ROUND(F88*(G88),2) -> 0 | M88: =ROUND(F88*(H88),2) -> 0 | N88: 0 | S88: =ROUND(F88*(P88),3) -> 0 | Z88: 0
C89: 713 | D89: IZOLÁCIE TEPELNÉ BEŽNÝCH STAVEBNÝCH KONŠTRUKCIÍ | G89: =ROUND((SUM(L84:L88))/1,2) -> 0 | H89: =ROUND((SUM(M84:M88))/1,2) -> 0 | I89: =ROUND((SUM(I84:I88))/1,2) -> 0 | L89: =ROUND((SUM(L84:L88))/1,2) -> 0 | M89: =ROUND((SUM(M84:M88))/1,2) -> 0 | S89: =ROUND((SUM(S84:S88))/1,2) -> 0 | V89: =ROUND((SUM(V84:V88))/1,2) -> 0
C91: 762 | D91: KONŠTRUKCIE TESÁRSKE
B92: 762/A 1 | C92: 762311103 | D92: Montáž kotevných želiez, príložiek, pätiek, ťahadiel, s pripojením k drevenej konštrukcii | E92: kus | F92: 20 | G92: 0 | H92: 0 | I92: =ROUND(F92*(G92+H92),2) -> 0 | J92: =ROUND(F92*(N92),2) -> 0 | K92: =ROUND(F92*(O92),2) -> 0 | L92: =ROUND(F92*(G92),2) -> 0 | M92: =ROUND(F92*(H92),2) -> 0 | N92: 0 | P92: 0.00021 | R92: 0.00021 | S92: =ROUND(F92*(P92),3) -> 0.004 | Z92: 0
B93: 762/A 1 | C93: 762332120 | D93: Montáž viazaných konštrukcií krovov striech z reziva priemernej plochy 120-224 cm2 | E93: m | F93: 62.5 | G93: 0 | H93: 0 | I93: =ROUND(F93*(G93+H93),2) -> 0 | J93: =ROUND(F93*(N93),2) -> 0 | K93: =ROUND(F93*(O93),2) -> 0 | L93: =ROUND(F93*(G93),2) -> 0 | M93: =ROUND(F93*(H93),2) -> 0 | N93: 0 | P93: 0.00026 | R93: 0.00026 | S93: =ROUND(F93*(P93),3) -> 0.016 | Z93: 0
B94: 762/A 1 | C94: 762332130 | D94: Montáž viazaných konštrukcií krovov striech z reziva priemernej plochy 224-288 cm2 | E94: m | F94: 21.8 | G94: 0 | H94: 0 | I94: =ROUND(F94*(G94+H94),2) -> 0 | J94: =ROUND(F94*(N94),2) -> 0 | K94: =ROUND(F94*(O94),2) -> 0 | L94: =ROUND(F94*(G94),2) -> 0 | M94: =ROUND(F94*(H94),2) -> 0 | N94: 0 | P94: 0.00026 | R94: 0.00026 | S94: =ROUND(F94*(P94),3) -> 0.006 | Z94: 0
B95: 762/A 1 | C95: 762342203 | D95: Montáž debnenia a latovania štítových odkvapových ríms pri vzdialenosti lát 220-360 mm | E95: m2 | F95: 42 | G95: 0 | H95: 0 | I95: =ROUND(F95*(G95+H95),2) -> 0 | J95: =ROUND(F95*(N95),2) -> 0 | K95: =ROUND(F95*(O95),2) -> 0 | L95: =ROUND(F95*(G95),2) -> 0 | M95: =ROUND(F95*(H95),2) -> 0 | N95: 0 | S95: =ROUND(F95*(P95),3) -> 0 | Z95: 0
B96: 762/A 1 | C96: 762342210 | D96: Montáž debnenia a latovania štítových odkvapových ríms - kontralaty rozpon 80-120 cm | E96: m2 | F96: 42 | G96: 0 | H96: 0 | I96: =ROUND(F96*(G96+H96),2) -> 0 | J96: =ROUND(F96*(N96),2) -> 0 | K96: =ROUND(F96*(O96),2) -> 0 | L96: =ROUND(F96*(G96),2) -> 0 | M96: =ROUND(F96*(H96),2) -> 0 | N96: 0 | S96: =ROUND(F96*(P96),3) -> 0 | Z96: 0
B97: 762/A 1 | C97: 762395000 | D97: Spojovacie a ochranné prostriedky pre viazané konštrukcie krovov, debnenie a laťovanie, nadstrešné konštr., spádové kliny - svorky, dosky, klince, pásová oceľ, vruty, impregnácia | E97: m3 | F97: 1.7263636 | G97: 0 | H97: 0 | I97: =ROUND(F97*(G97+H97),2) -> 0 | J97: =ROUND(F97*(N97),2) -> 0 | K97: =ROUND(F97*(O97),2) -> 0 | L97: =ROUND(F97*(G97),2) -> 0 | M97: =ROUND(F97*(H97),2) -> 0 | N97: 0 | P97: 0.0231 | R97: 0.0231 | S97: =ROUND(F97*(P97),3) -> 0.04 | Z97: 0
B98: 762/A 1 | C98: 762841210 | D98: Montáž podbíjania stropov a striech rovných z hobľovaných dosiek na zraz, včítane olištovania škár | E98: m2 | F98: 12.6 | G98: 0 | H98: 0 | I98: =ROUND(F98*(G98+H98),2) -> 0 | J98: =ROUND(F98*(N98),2) -> 0 | K98: =ROUND(F98*(O98),2) -> 0 | L98: =ROUND(F98*(G98),2) -> 0 | M98: =ROUND(F98*(H98),2) -> 0 | N98: 0 | S98: =ROUND(F98*(P98),3) -> 0 | Z98: 0
B99: 762/A 1 | C99: 998762102 | D99: Presun hmôt pre konštrukcie tesárske v objektoch výšky do 12 m | E99: t | F99: 1.6700884 | G99: 0 | H99: 0 | I99: =ROUND(F99*(G99+H99),2) -> 0 | J99: =ROUND(F99*(N99),2) -> 0 | K99: =ROUND(F99*(O99),2) -> 0 | L99: =ROUND(F99*(G99),2) -> 0 | M99: =ROUND(F99*(H99),2) -> 0 | N99: 0 | S99: =ROUND(F99*(P99),3) -> 0 | Z99: 0
B100: S/S80 | C100: 6051010200 | D100: Drevo ihličnaté neopracované dosky a fošne neomietané smrek akosť I hr.13-15mm x š.60-130mm | E100: m3 | F100: 1 | G100: 0 | H100: 0 | I100: =ROUND(F100*(G100+H100),2) -> 0 | J100: =ROUND(F100*(N100),2) -> 0 | K100: =ROUND(F100*(O100),2) -> 0 | L100: =ROUND(F100*(G100),2) -> 0 | M100: =ROUND(F100*(H100),2) -> 0 | N100: 0 | P100: 0.55 | R100: 0.55 | S100: =ROUND(F100*(P100),3) -> 0.55 | Z100: 0
B101: S/S80 | C101: 6051591000 | D101: Smrekovec hranol akosť I | E101: m3 | F101: 1.899425 | G101: 0 | H101: 0 | I101: =ROUND(F101*(G101+H101),2) -> 0 | J101: =ROUND(F101*(N101),2) -> 0 | K101: =ROUND(F101*(O101),2) -> 0 | L101: =ROUND(F101*(G101),2) -> 0 | M101: =ROUND(F101*(H101),2) -> 0 | N101: 0 | P101: 0.55 | R101: 0.55 | S101: =ROUND(F101*(P101),3) -> 1.045 | Z101: 0
B102: S/S90 | C102: 6119200057 | D102: Tatranský profil červený smrek 17 mm hrúbka x 110 mm šírka I. trieda | E102: m2 | F102: 12.852 | G102: 0 | H102: 0 | I102: =ROUND(F102*(G102+H102),2) -> 0 | J102: =ROUND(F102*(N102),2) -> 0 | K102: =ROUND(F102*(O102),2) -> 0 | L102: =ROUND(F102*(G102),2) -> 0 | M102: =ROUND(F102*(H102),2) -> 0 | N102: 0 | P102: 0.00122 | R102: 0.00122 | S102: =ROUND(F102*(P102),3) -> 0.016 | Z102: 0
C103: 762 | D103: KONŠTRUKCIE TESÁRSKE | G103: =ROUND((SUM(L91:L102))/1,2) -> 0 | H103: =ROUND((SUM(M91:M102))/1,2) -> 0 | I103: =ROUND((SUM(I91:I102))/1,2) -> 0 | L103: =ROUND((SUM(L91:L102))/1,2) -> 0 | M103: =ROUND((SUM(M91:M102))/1,2) -> 0 | S103: =ROUND((SUM(S91:S102))/1,2) -> 1.68 | V103: =ROUND((SUM(V91:V102))/1,2) -> 0
C105: 763 | D105: DREVOSTAVBY
B106: 763/A 2 | C106: 763161411 | D106: SDK podkrovie s izoláciou hr. 200 mm a parozábranou KNAUF kca z profilov CD 2vrstvová dosky GKB hr. 12,5 mm | E106: m2 | F106: 29.1 | G106: 0 | H106: 0 | I106: =ROUND(F106*(G106+H106),2) -> 0 | J106: =ROUND(F106*(N106),2) -> 0 | K106: =ROUND(F106*(O106),2) -> 0 | L106: =ROUND(F106*(G106),2) -> 0 | M106: =ROUND(F106*(H106),2) -> 0 | N106: 0 | P106: 0.02104 | R106: 0.02104 | S106: =ROUND(F106*(P106),3) -> 0.612 | Z106: 0
B107: 763/A 2 | C107: 998763301 | D107: Presun hmôt pre sádrokartónové konštrukcie v objektoch výšky do 7 m | E107: t | F107: 0.612264 | G107: 0 | H107: 0 | I107: =ROUND(F107*(G107+H107),2) -> 0 | J107: =ROUND(F107*(N107),2) -> 0 | K107: =ROUND(F107*(O107),2) -> 0 | L107: =ROUND(F107*(G107),2) -> 0 | M107: =ROUND(F107*(H107),2) -> 0 | N107: 0 | S107: =ROUND(F107*(P107),3) -> 0 | Z107: 0
C108: 763 | D108: DREVOSTAVBY | G108: =ROUND((SUM(L105:L107))/1,2) -> 0 | H108: =ROUND((SUM(M105:M107))/1,2) -> 0 | I108: =ROUND((SUM(I105:I107))/1,2) -> 0 | L108: =ROUND((SUM(L105:L107))/1,2) -> 0 | M108: =ROUND((SUM(M105:M107))/1,2) -> 0 | S108: =ROUND((SUM(S105:S107))/1,2) -> 0.61 | V108: =ROUND((SUM(V105:V107))/1,2) -> 0
C110: 764 | D110: KONŠTRUKCIE KLAMPIARSKE
B111: 764/A 6 | C111: 764173111 | D111: Strešná krytina MASLEN ŠKRIDPLECH - matný polyester 35µ, sklonu do 30° | E111: m2 | F111: 42 | G111: 0 | H111: 0 | I111: =ROUND(F111*(G111+H111),2) -> 0 | J111: =ROUND(F111*(N111),2) -> 0 | K111: =ROUND(F111*(O111),2) -> 0 | L111: =ROUND(F111*(G111),2) -> 0 | M111: =ROUND(F111*(H111),2) -> 0 | N111: 0 | P111: 0.00527 | R111: 0.00527 | S111: =ROUND(F111*(P111),3) -> 0.221 | Z111: 0
B112: 764/A 6 | C112: 764173401 | D112: Doplnky strešnej krytiny MASLEN ŠKRIDPLECH, GAPA, UNIDACH, TOPDACH - bočné lemovanie na alebo pod krytinu 2m r.š.310mm - lesklý polyester 25µ, sklonu do 30° | E112: m | F112: 4 | G112: 0 | H112: 0 | I112: =ROUND(F112*(G112+H112),2) -> 0 | J112: =ROUND(F112*(N112),2) -> 0 | K112: =ROUND(F112*(O112),2) -> 0 | L112: =ROUND(F112*(G112),2) -> 0 | M112: =ROUND(F112*(H112),2) -> 0 | N112: 0 | P112: 0.00052 | R112: 0.00052 | S112: =ROUND(F112*(P112),3) -> 0.002 | Z112: 0
B113: 764/A 6 | C113: 764173431 | D113: Doplnky strešnej krytiny MASLEN ŠKRIDPLECH, GAPA, UNIDACH, TOPDACH - odkvapové lemovanie 2m r.š.250mm - lesklý polyester 25µ, sklonu do 30° | E113: m | F113: 21 | G113: 0 | H113: 0 | I113: =ROUND(F113*(G113+H113),2) -> 0 | J113: =ROUND(F113*(N113),2) -> 0 | K113: =ROUND(F113*(O113),2) -> 0 | L113: =ROUND(F113*(G113),2) -> 0 | M113: =ROUND(F113*(H113),2) -> 0 | N113: 0 | P113: 0.00042 | R113: 0.00042 | S113: =ROUND(F113*(P113),3) -> 0.009 | Z113: 0
...
